BEGIN:VCALENDAR
VERSION:2.0
PRODID:-//Westside Health Authority - ECPv6.15.11//NONSGML v1.0//EN
CALSCALE:GREGORIAN
METHOD:PUBLISH
X-WR-CALNAME:Westside Health Authority
X-ORIGINAL-URL:https://www.healthauthority.org
X-WR-CALDESC:Events for Westside Health Authority
REFRESH-INTERVAL;VALUE=DURATION:PT1H
X-Robots-Tag:noindex
X-PUBLISHED-TTL:PT1H
BEGIN:VTIMEZONE
TZID:America/Chicago
BEGIN:DAYLIGHT
TZOFFSETFROM:-0600
TZOFFSETTO:-0500
TZNAME:CDT
DTSTART:20250309T080000
END:DAYLIGHT
BEGIN:STANDARD
TZOFFSETFROM:-0500
TZOFFSETTO:-0600
TZNAME:CST
DTSTART:20251102T070000
END:STANDARD
BEGIN:DAYLIGHT
TZOFFSETFROM:-0600
TZOFFSETTO:-0500
TZNAME:CDT
DTSTART:20260308T080000
END:DAYLIGHT
BEGIN:STANDARD
TZOFFSETFROM:-0500
TZOFFSETTO:-0600
TZNAME:CST
DTSTART:20261101T070000
END:STANDARD
BEGIN:DAYLIGHT
TZOFFSETFROM:-0600
TZOFFSETTO:-0500
TZNAME:CDT
DTSTART:20270314T080000
END:DAYLIGHT
BEGIN:STANDARD
TZOFFSETFROM:-0500
TZOFFSETTO:-0600
TZNAME:CST
DTSTART:20271107T070000
END:STANDARD
END:VTIMEZONE
BEGIN:VEVENT
DTSTART;TZID=America/Chicago:20260425T083000
DTEND;TZID=America/Chicago:20260425T150000
DTSTAMP:20260422T113008
CREATED:20260421T121823Z
LAST-MODIFIED:20260421T121823Z
UID:851-1777105800-1777129200@www.healthauthority.org
SUMMARY:We Are Our Own Medicine – Gun Violence Prevention Conference 2026
DESCRIPTION:Join us for the “We Are Our Own Medicine” Gun Violence Prevention Conference 2026\, a powerful two-day event dedicated to healing\, education\, and community empowerment. \nThis conference brings together community leaders\, advocates\, and experts to address the impact of gun violence and explore solutions rooted in unity\, resilience\, and collective action. \nTheme: Strengthening Ourselves to Heal Community\nThrough engaging discussions\, panel sessions\, and shared experiences\, attendees will gain valuable insights into prevention strategies\, healing practices\, and community-driven solutions. \nSpeakers & Panelists\nThis event features a diverse lineup of respected leaders\, advocates\, and professionals working on the frontlines of violence prevention and community healing. \n(Some featured speakers include:) \n\nAlees Edwards\nRemel Terry\nJermaine Harris\nTara Stamps\nTrevon Bosley\nCameron Barnes\nCiera Bates-Chamberlain\nDavid Marrero\nBrenda Mitchell\nMichael Pfleger\nNate Tubbs\nOmar Aquino\nKam Buckner\nRobin Kelly\nBob Morgan\nWillie Preston\nLori Crowder\nAnd many more community leaders and changemakers
URL:https://www.healthauthority.org/event/we-are-our-own-medicine-gun-violence-prevention-conference-25-2026/
LOCATION:New Life Covenant\, 3400 W. Division St\, Chicago\, IL\, 60651\, United States
ATTACH;FMTTYPE=image/jpeg:https://www.healthauthority.org/wp-content/uploads/2026/04/we-are-our-own-medicine.jpg
END:VEVENT
END:VCALENDAR