BEGIN:VCALENDAR
VERSION:2.0
PRODID:-//Westside Health Authority - ECPv6.15.11//NONSGML v1.0//EN
CALSCALE:GREGORIAN
METHOD:PUBLISH
X-WR-CALNAME:Westside Health Authority
X-ORIGINAL-URL:https://www.healthauthority.org
X-WR-CALDESC:Events for Westside Health Authority
REFRESH-INTERVAL;VALUE=DURATION:PT1H
X-Robots-Tag:noindex
X-PUBLISHED-TTL:PT1H
BEGIN:VTIMEZONE
TZID:UTC
BEGIN:STANDARD
TZOFFSETFROM:+0000
TZOFFSETTO:+0000
TZNAME:UTC
DTSTART:20250101T000000
END:STANDARD
END:VTIMEZONE
BEGIN:VEVENT
DTSTART;TZID=UTC:20260221T120000
DTEND;TZID=UTC:20260221T170000
DTSTAMP:20260422T101128
CREATED:20260304T160208Z
LAST-MODIFIED:20260305T120355Z
UID:745-1771675200-1771693200@www.healthauthority.org
SUMMARY:Black Art Collectors: Preserving Our Legacy – Discussion
DESCRIPTION:Join us for an engaging and inspiring conversation titled “Black Art Collectors: Preserving Our Legacy.” This community discussion will explore the importance of collecting and preserving Black art as a powerful act of cultural preservation\, resistance\, and love. \nHosted at the Aspire Center in Chicago\, this event brings together respected collectors and community voices who are passionate about protecting and celebrating Black artistic heritage. \nAttendees will gain insight into the role of collectors in preserving culture\, supporting artists\, and ensuring that Black art remains visible and valued for generations to come. \nFeatured Speakers\n\nPatric McCoy\nRosie Dawson\nVanessa Stokes\nJovanna Jackson\nBarrett Keithley\nLynne McDaniel\n\nRegistration\nRegister and learn more:\nhttps://aspirebhm2026.eventbrite.com
URL:https://www.healthauthority.org/event/black-art-collectors-preserving-our-legacy-discussion/
LOCATION:Aspire Center\, 5500 W. Madison Street\, Chicago\, IL\, 60644\, United States
ATTACH;FMTTYPE=image/png:https://www.healthauthority.org/wp-content/uploads/2026/03/black-art-1.png
END:VEVENT
END:VCALENDAR